BEGIN:VCALENDAR
VERSION:2.0
PRODID:-//Lokal Tbilisi - ECPv6.15.20//NONSGML v1.0//EN
CALSCALE:GREGORIAN
METHOD:PUBLISH
X-ORIGINAL-URL:https://lokaltbilisi.com
X-WR-CALDESC:Events for Lokal Tbilisi
REFRESH-INTERVAL;VALUE=DURATION:PT1H
X-Robots-Tag:noindex
X-PUBLISHED-TTL:PT1H
BEGIN:VTIMEZONE
TZID:Asia/Dubai
BEGIN:STANDARD
TZOFFSETFROM:+0400
TZOFFSETTO:+0400
TZNAME:+04
DTSTART:20220101T000000
END:STANDARD
END:VTIMEZONE
BEGIN:VEVENT
DTSTART;TZID=Asia/Dubai:20230416T120000
DTEND;TZID=Asia/Dubai:20230416T150000
DTSTAMP:20260421T140854
CREATED:20230328T235752Z
LAST-MODIFIED:20230415T235556Z
UID:20835-1681646400-1681657200@lokaltbilisi.com
SUMMARY:LOKAL Family Easter Brunch
DESCRIPTION:Easter is a special time for family traditions around the world\, where we gather around the table to share a delicious meal. We want to invite you to our family table this Easter for the a LOKAL Family Brunch. You don’t need to be a customer of LOKAL to attend\, we’re extending this invitation to everyone. So many of us are away from our families and we want to welcome you to the LOKAL family.\nJoin us on Orthodox Easter Sunday\, April 16th\, from noon until 3 pm for a delicious meal that will bring us all together.\nHow does it work?\nRSVP via the form\, let us know what you will bring and mark your calendar to save the date!\nLOKAL will provide some basic menu items\, and we ask that everyone bring something to contribute and share (please bring enough for 6-8 servings). This way\, we can ensure that there will be enough food for everyone. Our brunch will be held in our outdoor covered patio\, so we can enjoy the fresh air and good company.\nOur tentative menu\, provided by LOKAL\, includes baked fish\, Easter eggs\, couscous salad (V)\, bean salad (V)\, pkhali (V)\, vegetables (V)\, pashka\, and more.\nIf you’re wondering what to bring\, here are some ideas: dessert\, bread\, pastries\, muffins\, drinks (juice\, sparkling wine\, etc.)\, a vegetable dish (cold or hot)\, khachapuri/lobiani\, fruit/fruit salad\, or anything else you’d like to contribute.\nWe can’t wait to share this special occasion with you and celebrate Easter together as a community. Please complete the reservation form (https://forms.gle/L6c75MVcRCbuABUZ6) to join us for Easter Brunch\, as space is limited. See you soon!\nhttps://www.facebook.com/events/1846223232420081/
URL:https://lokaltbilisi.com/event/lokal-family-easter-brunch/
LOCATION:LOKAL Tbilisi\, 42 Vasil Petriashvili\, tbilisi\, Georgia\, 0181\, Georgia
CATEGORIES:LOKAL Events
END:VEVENT
END:VCALENDAR